Workbook
Name Additional_DUT_information: 'Statement of Approval'!$B$6:$C$7
Name Additional_Network_Communication_Ports: 'Statement of Approval'!$B$10:$G$14
Name Additional_questions: 'Additional questions'!$B$4:$D$22
Name Additional_questions_description: 'Additional questions'!$C$2
Name Additional_Test_information: 'Statement of Approval'!$B$37:$C$39
Name Advanced_Device_Management: 'Optional features'!$B$139:$D$141
Name Advanced_User_Interface: 'Optional features'!$B$159:$D$170
Name AQ_Subset: 'Additional questions'!$B$5:$D$20
Name AQ_Validation: 'Additional questions'!$E$5:$E$20
Name Authorization_options_for_local_start: 'Optional features'!$B$48:$E$54
Name Authorization_options_for_local_stop: 'Optional features'!$B$57:$E$61
Name Authorization_options_for_remote_start: 'Optional features'!$B$64:$E$68
Name certificate_photo: 'Statement of Approval'!$I$7:$M$14
Name Cipher_Suites: 'Optional features'!$B$82:$D$83
Name Communication_technology: 'Performance Measurement'!$B$17:$C$17
Name ConfigID_value: 'HIDDEN calc sheet'!$G$3
Name CP_Advanced_Security: 'Optional features'!$B$124:$D$129
Name CP_Bidirectional: 'Optional features'!$B$183:$D$187
Name CP_CORE: 'Optional features'!$B$4:$D$45
Name CP_CORE_2: 'Optional features'!$B$86:$D$107
Name CP_ISO15118_Support: 'Optional features'!$B$144:$D$150
Name CP_Payment: 'Optional features'!$B$173:$D$180
Name CP_Smart_Charging: 'Optional features'!$B$110:$D$121
Name Device_info: 'Hardware Feature set'!$C$4:$D$9
Name DUT_photo: 'Statement of Approval'!$B$43:$F$85
Name EVSE_ConnectorTypes: 'Hardware Feature set'!$K$6:$K$42
Name EVSE_list: 'Hardware Feature set'!$G$5:$L$42
Name Hardware_feature_set: 'Hardware Feature set'!$B$12:$D$28
Name Hardware_feature_set_description: 'Hardware Feature set'!$C$2
Name Hash_AdditionalQuestions: 'Additional questions'!$D$5:$D$20
Name Hash_AdditionalQuestions_Scope: 'Additional questions'!$F$5:$F$20
Name Hash_FamilyMembers_A: 'OCPP family members'!$F$7:$L$8
Name Hash_FamilyMembers_B: 'OCPP family members'!$F$10:$L$41
Name Hash_HardwareFeatureSet: 'Hardware Feature set'!$D$4:$D$25
Name Hash_HardwareFeatureSet_Scope: 'Hardware Feature set'!$F$4:$F$25
Name Hash_OptionalFeatures_Main_A: 'Optional features'!$D$4:$D$71
Name Hash_OptionalFeatures_Main_A_Scope: 'Optional features'!$H$4:$H$71
Name Hash_OptionalFeatures_Main_B: 'Optional features'!$D$78:$D$265
Name Hash_OptionalFeatures_Main_B_Scope: 'Optional features'!$H$78:$H$265
Name Hash_OptionalFeatures_Measurands: 'Optional features'!$D$73:$D$77
Name Hash_OptionalFeatures_Measurands_Scope: 'Optional features'!$H$73:$H$77
Name Hash_OtherRelevantSettings: 'Other relevant settings'!$D$5:$D$62
Name Hash_OtherRelevantSettings_Scope: 'Other relevant settings'!$F$5:$F$62
Name Hash_PerformanceMeasurement: 'Performance Measurement'!$C$5:$C$8
Name Hash_PerformanceMeasurement_Scope: 'Performance Measurement'!$F$5:$F$8
Name Hash_ProfileSelection: 'Profile selection'!$C$4:$C$9
Name Hash_ProfileSelection_Scope: 'Profile selection'!$F$4:$F$9
Name Hash_VendorSpecificSettings: 'Vendor Specific Settings'!$C$6:$C$28
Name Local_Authorization_List_Management: 'Optional features'!$B$153:$D$156
Name MasterValidity: 'Statement of Approval'!$O$2
Name MD_ConnectorTypes: MD!$Q$1:$Q$34
Name MD_CurrentTypes: MD!$E$1:$E$3
Name MD_RFIDOptions: MD!$S$1:$S$3
Name Measured_performance: 'Performance Measurement'!$B$11:$F$15
Name Metervalues: 'Optional features'!$B$71:$E$77
Name OCPP_21_Certification: Explanation!$C$6:$D$10
Name OF_AuthLocalStop: 'Optional features'!$B$58:$D$61
Name OF_LocalStart_Values: 'Optional features'!$D$49:$D$54
Name OF_Measurands: 'Optional features'!$B$72:$D$77
Name OF_RemoteStart_Values: 'Optional features'!$D$65:$D$68

Sheet Explanation
C3: Protocol Implementation Conformance Statement
C5: OCPP 2.1 Certification
C6: PICS Version: | D6: 1.0.5
C7: Date: | D7: 46294
C9: OCPP Spec Version | D9: Edition 2 FINAL, 2025-12-03
C10: OCPP Errata Version | D10: Errata 2026-09
D12: Instruction
D13: This document must be used to define the system that you want to certify in the Open Charge Alliance OCPP Certification Program for OCPP 2.1. By defining a system / device using this document, a vendor or certification lab can determine the exact test cases that have to be performed during the certification run for OCPP 2.1 certification. This document is only intended to be updated using Microsoft Excel. It contains many calculations to ensure that the combination of values is sound and as a tool for the user it also calculates which testcases are required. We have locked the sheet to ensure only the fields that are intended for input can be modified and are fully aware that it is possible to remove this protection. We cannot accept any filled in PICS documents that have the password protection removed or that have been modified using another program than Microsoft Excel. Doing so makes this PICS invalid and renders it unusable for starting your certification proces. Please note: this document is still under contruction for the Certification Profiles for which the Certification Program is not opened yet. When submitting ths PICS for certification testing by a testlab please ensure you fill in and submit the latest version (earlier versions cannot be used for certification).
D15: This document can be used by following these steps:
C16: 1 | D16: Specify the hardware features of your Charging Station in column D of the tab "Hardware Feature set".
C17: 2 | D17: Select the Certification Profiles that you want to certify during your Certification run in column C of the tab "Profile Selection"
C18: 3 | D18: Specify which optional features you have implemented in your Charging Station in column D of the tab "Optional features". Fill in all black fields, purple fields in column E will be populated during certification
C19: 4 | D19: Fill in the answer to the questions on the tab "Additional questions" (in column D)
C20: 5 | D20: Fill in all settings / limitations that are relevant for certification in the tab "Other relevant settings".
C21: 6 | D21: Fill in all settings that are specific to this vendor/device and relevant for certification in the tab "Vendor Specific Settings"
C22: 7 | D22: You can now see the test cases that need to be passed on the tab "Charging Station Testcases" by filtering column H for the value "TRUE".
D24: Before submitting this document to a testlab for a certification test:
C25: 8 | D25: Double-check the selected values entered in the steps above and be sure that the configuration specified will allow all required testcases to PASS. Please note that all values provided in the PICS will be shown on the Certificate.
C26: 9 | D26: Enter your performance commitment in the tab 'Performance Measurement' in column C (black fields only, purple fields will be populated during certification)
C27: 10 | D27: Ensure that all tabs that have a check show a green VALID status on the top row
C30: Changelog:
C31: 1.0.5 | D31: Errata 2026-09
C32: 1.0.4 | D32: Certification tab
C33: 1.0.3 | D33: Bug fixs -> BPT named range, C-58 validation, SC-5 required at least one bug
C34: 1.0.2 | D34: Fix issues found from internal review and updates on part 5 included
C35: 1.0.1 | D35: Maintainability changes
C36: 1.0.0 | D36: Initial version
C38: PICS Id: | D38: 1038c41219b4eaf1b0fa347afa4ce0d635de33456c23d64ee865851efbf09f02

Sheet Hardware Feature set
B1: Hardware feature set | M1: Hardware Feature Set is : | N1: =IF(AND(_xlfn.CONCAT(M4:M60,E4:E60)="",ISERROR(FIND("<",_xlfn.CONCAT(D5:D7,D9,D4,D21:D24)))),"VALID","INVALID") -> INVALID
C2: The Hardware Feature set is the actual set of relevant hardware properties of the product tested, that influence the OCPP messaging behavior. In the table below you can see for each hardware feature relevant for OCPP whether this is applicable for this product. | M2: The complete PICS is currently | N2: ='Statement of Approval'!$O$2 -> INVALID
P3: Validations EVSE + connectors
C4: Vendor Name | D4: <vendor company name> | E4: =IF(ISBLANK(D4),"<---- This field cannot be left empty!","") | F4: =IF(COUNTIF('OCPP family members'!$B$13:$B$41,'Hardware Feature set'!C4)>0, "Member", "") | G4: EVSE and Connector Configuration | P4: EVSE structure | Q4: Battery Slot | R4: Current Type (non-battery only) | S4: Connector ID (all rows) | T4: Phases, Connector Type & Cable (non-battery only) | U4: Type dropdown (all rows)
C5: Device Under Test | D5: <select type of Device Under Test> | E5: =IF(ISBLANK(D5),"<---- This field cannot be left empty!",IF(AND(D5 <> "Charging Station", D5 <> "Charging Station Software Stack"),"<---- This field must be filled from the drop-down menu","")) -> <---- This field must be filled from the drop-down menu | F5: =IF(COUNTIF('OCPP family members'!$B$13:$B$41,'Hardware Feature set'!C5)>0, "Member", "") | G5: EVSE | H5: Current | I5: Phases | J5: Connector | K5: Type | L5: Cable Type
C6: Product Subtype | D6: <select subtype or Not Applicable> | E6: =IF(ISBLANK(D6),"<---- This field cannot be left empty!",IF(AND(SUMPRODUCT(--ISNUMBER(MATCH("wInductive", EVSE_ConnectorTypes, 0))+--ISNUMBER(MATCH("wResonant", EVSE_ConnectorTypes, 0))) <> 0, D6 <> "Wireless Charging Station"),"<---- This field must be set to Wireles Charging Station",IF(AND(NOT(ISERROR(FIND(MD!Q34,_xlfn.CONCAT(K:K)))), D6 <> "Battery Swapping Charging Station"),"<---- This field must be set to Battery Swapping Charging Station",IF(AND(D6 <> "N/A", D6 <> "Mode 1/2-only Charging Station", D6 <> "Wireless Charging Station", D6 <> "Battery Swapping Charging Station"), "<---- This field must be filled from the drop-down menu", "")))) -> <---- This field must be filled from the drop-down menu | F6: =IF(COUNTIF('OCPP family members'!$B$13:$B$41,'Hardware Feature set'!C6)>0, "Member", "") | G6: 1 | L6: =IF(OR(LEFT(K6,1)= "s",LEFT(K6,1)="O"), "Detachable Cable",IF(LEFT(K6,1)="c", "Fixed Cable",IF(OR(LEFT(K6,1)="w",LEFT(K6,1)="P"),"Other",""))) | M6: =IF(P6<>"",P6,IF(Q6<>"",Q6,IF(R6<>"",R6,IF(S6<>"",S6,IF(T6<>"",T6,U6))))) -> Please specify Current Type | P6: =IF(AND($H6=MD!$E$3,OR($D$5<>"Charging Station Software Stack",COUNTA($G$7:$K$42)>0)),"AC & DC is only allowed for a single-EVSE Software Stack",IF(AND(ISBLANK(G5),ISNUMBER(G6)),"Empty lines are not allowed in this table",IF(AND(NOT(ISNUMBER(G5)),G6<>1),"First EVSE must be EVSE1",IF(AND(ISNUMBER(G5),NOT(OR(G6=G5,G6-1=G5))),"Next EVSE must be same id or id + 1","")))) | Q6: =IF(K6<>"bBatterySlot","",IF(NOT(ISBLANK(H6)),"Battery Slot cannot have a Current Type",IF(NOT(ISBLANK(I6)),"Battery Slot cannot have Phases",IF(L6<>"","Battery Slot cannot have a Cable Type","")))) | R6: =IF(K6="bBatterySlot","",IF(ISBLANK(H6),"Please specify Current Type",IF(AND(G5=G6,H5<>H6),"Current Type must be the same for all connectors of an EVSE",""))) -> Please specify Current Type | S6: =IF(AND(G6=G5,J6<>IF(ISNUMBER(J5),J5+1,1)),_xlfn.CONCAT("Connector id on same EVSE must be ",IF(ISNUMBER(J5),J5+1,1)),IF(AND(G6<>G5,J6<>1),"First Connector of an EVSE must be 1","")) -> First Connector of an EVSE must be 1 | T6: =IF(K6="bBatterySlot","",IF(AND(H6="DC",NOT(ISBLANK(I6))),"You cannot specify number of phases for DC!",IF(AND(OR(H6=MD!$E$3,H6="AC"),ISBLANK(I6)),"You Must specify number of phases for AC!",IF(ISBLANK(K6),"Please fill in Connector Type",IF(AND(SUMPRODUCT(--ISNUMBER(MATCH("wInductive",EVSE_ConnectorTypes,0))+--ISNUMBER(MATCH("wResonant",EVSE_ConnectorTypes,0)))=0,D6="Wireless Charging Station"),"You must have at least one connector of type wInductive or wResonant",IF(ISBLANK(L6),"Please fill in Cable Type",IF(ISERROR(MATCH(H6,MD_CurrentTypes,0)),"Current must be filled from the drop-down menu",IF(AND(H6="AC",I6<>1,I6<>"1 & 3",I6<>"1 & 2 & 3",I6<>3),"<---- Phases must be filled from the drop-down menu","")))))))) -> Please fill in Connector Type | U6: =IF(ISERROR(MATCH(K6,MD_ConnectorTypes,0)),"Type must be filled from the drop-down menu","") -> Type must be filled from the drop-down menu
C7: Product Designation | D7: <type name and / or model number> | E7: =IF(ISBLANK(D7),"<---- This field cannot be left empty!","") | F7: =IF(COUNTIF('OCPP family members'!$B$13:$B$41,'Hardware Feature set'!C7)>0, "Member", "") | L7: =IF(OR(LEFT(K7,1)= "s",LEFT(K7,1)="O"), "Detachable Cable",IF(LEFT(K7,1)="c", "Fixed Cable",IF(OR(LEFT(K7,1)="w",LEFT(K7,1)="P"),"Other",""))) | M7: =IF(P7<>"",P7,IF(Q7<>"",Q7,IF(R7<>"",R7,IF(S7<>"",S7,IF(T7<>"",T7,U7))))) | P7: =IF(_xlfn.CONCAT(G7:L7)="","",IF(AND(ISBLANK(G6),ISNUMBER(G7)),"Empty lines are not allowed in this table",IF(AND(NOT(ISNUMBER(G6)),G7<>1),"First EVSE must be EVSE1",IF(AND(ISNUMBER(G6),NOT(OR(G7=G6,G7-1=G6))),"Next EVSE must be same id or id + 1","")))) | Q7: =IF(K7<>"bBatterySlot","",IF(NOT(ISBLANK(H7)),"Battery Slot cannot have a Current Type",IF(NOT(ISBLANK(I7)),"Battery Slot cannot have Phases",IF(L7<>"","Battery Slot cannot have a Cable Type","")))) | R7: =IF(OR(K7="bBatterySlot",_xlfn.CONCAT(G7:L7)=""),"",IF(ISBLANK(H7),"Please specify Current Type",IF(AND(G6=G7,H6<>H7),"Current Type must be the same for all connectors of an EVSE",""))) | S7: =IF(_xlfn.CONCAT(G7:L7)="","",IF(AND(G7=G6,J7<>IF(ISNUMBER(J6),J6+1,1)),_xlfn.CONCAT("Connector id on same EVSE must be ",IF(ISNUMBER(J6),J6+1,1)),IF(AND(G7<>G6,J7<>1),"First Connector of an EVSE must be 1",""))) | T7: =IF(OR(K7="bBatterySlot",_xlfn.CONCAT(G7:L7)=""),"",IF(AND(H7="DC",NOT(ISBLANK(I7))),"You cannot specify number of phases for DC!",IF(AND(H7="AC",ISBLANK(I7)),"You Must specify number of phases for AC!",IF(ISBLANK(K7),"Please fill in Connector Type",IF(ISBLANK(L7),"Please fill in Cable Type",IF(ISERROR(MATCH(H7,MD_CurrentTypes,0)),"Current must be filled from the drop-down menu",IF(AND(H7="AC",I7<>1,I7<>"1 & 3",I7<>"1 & 2 & 3",I7<>3),"<---- Phases must be filled from the drop-down menu",""))))))) | U7: =IF(_xlfn.CONCAT(G7:L7)="","",IF(ISERROR(MATCH(K7,MD_ConnectorTypes,0)),"Type must be filled from the drop-down menu",""))
C8: Product Family | D8: <product family descriptor (if applicable)> | E8: {=IF(SUMPRODUCT((LEFT('OCPP family members'!F7:M7,1)<>"<")*('OCPP family members'!F7:M7<>""))>0, IF(OR(AND(LEFT(D8,1)="<", RIGHT(D8,1)=">"), D8=""), "<---- This field must be filled when family members are defined", ""), "")} | F8: =IF(COUNTIF('OCPP family members'!$B$13:$B$41,'Hardware Feature set'!C8)>0, "Member", "") | L8: =IF(OR(LEFT(K8,1)= "s",LEFT(K8,1)="O"), "Detachable Cable",IF(LEFT(K8,1)="c", "Fixed Cable",IF(OR(LEFT(K8,1)="w",LEFT(K8,1)="P"),"Other",""))) | M8: =IF(P8<>"",P8,IF(Q8<>"",Q8,IF(R8<>"",R8,IF(S8<>"",S8,IF(T8<>"",T8,U8))))) | P8: =IF(_xlfn.CONCAT(G8:L8)="","",IF(AND(ISBLANK(G7),ISNUMBER(G8)),"Empty lines are not allowed in this table",IF(AND(NOT(ISNUMBER(G7)),G8<>1),"First EVSE must be EVSE1",IF(AND(ISNUMBER(G7),NOT(OR(G8=G7,G8-1=G7))),"Next EVSE must be same id or id + 1","")))) | Q8: =IF(K8<>"bBatterySlot","",IF(NOT(ISBLANK(H8)),"Battery Slot cannot have a Current Type",IF(NOT(ISBLANK(I8)),"Battery Slot cannot have Phases",IF(L8<>"","Battery Slot cannot have a Cable Type","")))) | R8: =IF(OR(K8="bBatterySlot",_xlfn.CONCAT(G8:L8)=""),"",IF(ISBLANK(H8),"Please specify Current Type",IF(AND(G7=G8,H7<>H8),"Current Type must be the same for all connectors of an EVSE",""))) | S8: =IF(_xlfn.CONCAT(G8:L8)="","",IF(AND(G8=G7,J8<>IF(ISNUMBER(J7),J7+1,1)),_xlfn.CONCAT("Connector id on same EVSE must be ",IF(ISNUMBER(J7),J7+1,1)),IF(AND(G8<>G7,J8<>1),"First Connector of an EVSE must be 1",""))) | T8: =IF(OR(K8="bBatterySlot",_xlfn.CONCAT(G8:L8)=""),"",IF(AND(H8="DC",NOT(ISBLANK(I8))),"You cannot specify number of phases for DC!",IF(AND(H8="AC",ISBLANK(I8)),"You Must specify number of phases for AC!",IF(ISBLANK(K8),"Please fill in Connector Type",IF(ISBLANK(L8),"Please fill in Cable Type",IF(ISERROR(MATCH(H8,MD_CurrentTypes,0)),"Current must be filled from the drop-down menu",IF(AND(H8="AC",I8<>1,I8<>"1 & 3",I8<>"1 & 2 & 3",I8<>3),"<---- Phases must be filled from the drop-down menu",""))))))) | U8: =IF(_xlfn.CONCAT(G8:L8)="","",IF(ISERROR(MATCH(K8,MD_ConnectorTypes,0)),"Type must be filled from the drop-down menu",""))
C9: =IF(D5="Charging Station","Firmware Version","OCPP Software Version") -> OCPP Software Version | D9: <type software version of the product> | E9: =IF(ISBLANK(D9),"<---- This field cannot be left empty!",IF(D9="<type software version of the product>","",IF(ISERROR(VLOOKUP("firmwareVersion",'HIDDEN Testrun Results'!A:B,2,FALSE)),"",IF(VLOOKUP("firmwareVersion",'HIDDEN Testrun Results'!A:B,2,FALSE)=D9,"","<---- Version does not match firmware version from log files")))) | F9: =IF(COUNTIF('OCPP family members'!$B$13:$B$41,'Hardware Feature set'!C9)>0, "Member", "") | L9: =IF(OR(LEFT(K9,1)= "s",LEFT(K9,1)="O"), "Detachable Cable",IF(LEFT(K9,1)="c", "Fixed Cable",IF(OR(LEFT(K9,1)="w",LEFT(K9,1)="P"),"Other",""))) | M9: =IF(P9<>"",P9,IF(Q9<>"",Q9,IF(R9<>"",R9,IF(S9<>"",S9,IF(T9<>"",T9,U9))))) | P9: =IF(_xlfn.CONCAT(G9:L9)="","",IF(AND(ISBLANK(G8),ISNUMBER(G9)),"Empty lines are not allowed in this table",IF(AND(NOT(ISNUMBER(G8)),G9<>1),"First EVSE must be EVSE1",IF(AND(ISNUMBER(G8),NOT(OR(G9=G8,G9-1=G8))),"Next EVSE must be same id or id + 1","")))) | Q9: =IF(K9<>"bBatterySlot","",IF(NOT(ISBLANK(H9)),"Battery Slot cannot have a Current Type",IF(NOT(ISBLANK(I9)),"Battery Slot cannot have Phases",IF(L9<>"","Battery Slot cannot have a Cable Type","")))) | R9: =IF(OR(K9="bBatterySlot",_xlfn.CONCAT(G9:L9)=""),"",IF(ISBLANK(H9),"Please specify Current Type",IF(AND(G8=G9,H8<>H9),"Current Type must be the same for all connectors of an EVSE",""))) | S9: =IF(_xlfn.CONCAT(G9:L9)="","",IF(AND(G9=G8,J9<>IF(ISNUMBER(J8),J8+1,1)),_xlfn.CONCAT("Connector id on same EVSE must be ",IF(ISNUMBER(J8),J8+1,1)),IF(AND(G9<>G8,J9<>1),"First Connector of an EVSE must be 1",""))) | T9: =IF(OR(K9="bBatterySlot",_xlfn.CONCAT(G9:L9)=""),"",IF(AND(H9="DC",NOT(ISBLANK(I9))),"You cannot specify number of phases for DC!",IF(AND(H9="AC",ISBLANK(I9)),"You Must specify number of phases for AC!",IF(ISBLANK(K9),"Please fill in Connector Type",IF(ISBLANK(L9),"Please fill in Cable Type",IF(ISERROR(MATCH(H9,MD_CurrentTypes,0)),"Current must be filled from the drop-down menu",IF(AND(H9="AC",I9<>1,I9<>"1 & 3",I9<>"1 & 2 & 3",I9<>3),"<---- Phases must be filled from the drop-down menu",""))))))) | U9: =IF(_xlfn.CONCAT(G9:L9)="","",IF(ISERROR(MATCH(K9,MD_ConnectorTypes,0)),"Type must be filled from the drop-down menu",""))
F10: =IF(COUNTIF('OCPP family members'!$B$13:$B$41,'Hardware Feature set'!C10)>0, "Member", "") | L10: =IF(OR(LEFT(K10,1)= "s",LEFT(K10,1)="O"), "Detachable Cable",IF(LEFT(K10,1)="c", "Fixed Cable",IF(OR(LEFT(K10,1)="w",LEFT(K10,1)="P"),"Other",""))) | M10: =IF(P10<>"",P10,IF(Q10<>"",Q10,IF(R10<>"",R10,IF(S10<>"",S10,IF(T10<>"",T10,U10))))) | P10: =IF(_xlfn.CONCAT(G10:L10)="","",IF(AND(ISBLANK(G9),ISNUMBER(G10)),"Empty lines are not allowed in this table",IF(AND(NOT(ISNUMBER(G9)),G10<>1),"First EVSE must be EVSE1",IF(AND(ISNUMBER(G9),NOT(OR(G10=G9,G10-1=G9))),"Next EVSE must be same id or id + 1","")))) | Q10: =IF(K10<>"bBatterySlot","",IF(NOT(ISBLANK(H10)),"Battery Slot cannot have a Current Type",IF(NOT(ISBLANK(I10)),"Battery Slot cannot have Phases",IF(L10<>"","Battery Slot cannot have a Cable Type","")))) | R10: =IF(OR(K10="bBatterySlot",_xlfn.CONCAT(G10:L10)=""),"",IF(ISBLANK(H10),"Please specify Current Type",IF(AND(G9=G10,H9<>H10),"Current Type must be the same for all connectors of an EVSE",""))) | S10: =IF(_xlfn.CONCAT(G10:L10)="","",IF(AND(G10=G9,J10<>IF(ISNUMBER(J9),J9+1,1)),_xlfn.CONCAT("Connector id on same EVSE must be ",IF(ISNUMBER(J9),J9+1,1)),IF(AND(G10<>G9,J10<>1),"First Connector of an EVSE must be 1",""))) | T10: =IF(OR(K10="bBatterySlot",_xlfn.CONCAT(G10:L10)=""),"",IF(AND(H10="DC",NOT(ISBLANK(I10))),"You cannot specify number of phases for DC!",IF(AND(H10="AC",ISBLANK(I10)),"You Must specify number of phases for AC!",IF(ISBLANK(K10),"Please fill in Connector Type",IF(ISBLANK(L10),"Please fill in Cable Type",IF(ISERROR(MATCH(H10,MD_CurrentTypes,0)),"Current must be filled from the drop-down menu",IF(AND(H10="AC",I10<>1,I10<>"1 & 3",I10<>"1 & 2 & 3",I10<>3),"<---- Phases must be filled from the drop-down menu",""))))))) | U10: =IF(_xlfn.CONCAT(G10:L10)="","",IF(ISERROR(MATCH(K10,MD_ConnectorTypes,0)),"Type must be filled from the drop-down menu",""))
F11: =IF(COUNTIF('OCPP family members'!$B$13:$B$41,'Hardware Feature set'!C11)>0, "Member", "") | L11: =IF(OR(LEFT(K11,1)= "s",LEFT(K11,1)="O"), "Detachable Cable",IF(LEFT(K11,1)="c", "Fixed Cable",IF(OR(LEFT(K11,1)="w",LEFT(K11,1)="P"),"Other",""))) | M11: =IF(P11<>"",P11,IF(Q11<>"",Q11,IF(R11<>"",R11,IF(S11<>"",S11,IF(T11<>"",T11,U11))))) | P11: =IF(_xlfn.CONCAT(G11:L11)="","",IF(AND(ISBLANK(G10),ISNUMBER(G11)),"Empty lines are not allowed in this table",IF(AND(NOT(ISNUMBER(G10)),G11<>1),"First EVSE must be EVSE1",IF(AND(ISNUMBER(G10),NOT(OR(G11=G10,G11-1=G10))),"Next EVSE must be same id or id + 1","")))) | Q11: =IF(K11<>"bBatterySlot","",IF(NOT(ISBLANK(H11)),"Battery Slot cannot have a Current Type",IF(NOT(ISBLANK(I11)),"Battery Slot cannot have Phases",IF(L11<>"","Battery Slot cannot have a Cable Type","")))) | R11: =IF(OR(K11="bBatterySlot",_xlfn.CONCAT(G11:L11)=""),"",IF(ISBLANK(H11),"Please specify Current Type",IF(AND(G10=G11,H10<>H11),"Current Type must be the same for all connectors of an EVSE",""))) | S11: =IF(_xlfn.CONCAT(G11:L11)="","",IF(AND(G11=G10,J11<>IF(ISNUMBER(J10),J10+1,1)),_xlfn.CONCAT("Connector id on same EVSE must be ",IF(ISNUMBER(J10),J10+1,1)),IF(AND(G11<>G10,J11<>1),"First Connector of an EVSE must be 1",""))) | T11: =IF(OR(K11="bBatterySlot",_xlfn.CONCAT(G11:L11)=""),"",IF(AND(H11="DC",NOT(ISBLANK(I11))),"You cannot specify number of phases for DC!",IF(AND(H11="AC",ISBLANK(I11)),"You Must specify number of phases for AC!",IF(ISBLANK(K11),"Please fill in Connector Type",IF(ISBLANK(L11),"Please fill in Cable Type",IF(ISERROR(MATCH(H11,MD_CurrentTypes,0)),"Current must be filled from the drop-down menu",IF(AND(H11="AC",I11<>1,I11<>"1 & 3",I11<>"1 & 2 & 3",I11<>3),"<---- Phases must be filled from the drop-down menu",""))))))) | U11: =IF(_xlfn.CONCAT(G11:L11)="","",IF(ISERROR(MATCH(K11,MD_ConnectorTypes,0)),"Type must be filled from the drop-down menu",""))
B12: Id | C12: Feature | D12: Supported / Present | F12: =IF(COUNTIF('OCPP family members'!$B$13:$B$41,'Hardware Feature set'!C12)>0, "Member", "") | L12: =IF(OR(LEFT(K12,1)= "s",LEFT(K12,1)="O"), "Detachable Cable",IF(LEFT(K12,1)="c", "Fixed Cable",IF(OR(LEFT(K12,1)="w",LEFT(K12,1)="P"),"Other",""))) | M12: =IF(P12<>"",P12,IF(Q12<>"",Q12,IF(R12<>"",R12,IF(S12<>"",S12,IF(T12<>"",T12,U12))))) | P12: =IF(_xlfn.CONCAT(G12:L12)="","",IF(AND(ISBLANK(G11),ISNUMBER(G12)),"Empty lines are not allowed in this table",IF(AND(NOT(ISNUMBER(G11)),G12<>1),"First EVSE must be EVSE1",IF(AND(ISNUMBER(G11),NOT(OR(G12=G11,G12-1=G11))),"Next EVSE must be same id or id + 1","")))) | Q12: =IF(K12<>"bBatterySlot","",IF(NOT(ISBLANK(H12)),"Battery Slot cannot have a Current Type",IF(NOT(ISBLANK(I12)),"Battery Slot cannot have Phases",IF(L12<>"","Battery Slot cannot have a Cable Type","")))) | R12: =IF(OR(K12="bBatterySlot",_xlfn.CONCAT(G12:L12)=""),"",IF(ISBLANK(H12),"Please specify Current Type",IF(AND(G11=G12,H11<>H12),"Current Type must be the same for all connectors of an EVSE",""))) | S12: =IF(_xlfn.CONCAT(G12:L12)="","",IF(AND(G12=G11,J12<>IF(ISNUMBER(J11),J11+1,1)),_xlfn.CONCAT("Connector id on same EVSE must be ",IF(ISNUMBER(J11),J11+1,1)),IF(AND(G12<>G11,J12<>1),"First Connector of an EVSE must be 1",""))) | T12: =IF(OR(K12="bBatterySlot",_xlfn.CONCAT(G12:L12)=""),"",IF(AND(H12="DC",NOT(ISBLANK(I12))),"You cannot specify number of phases for DC!",IF(AND(H12="AC",ISBLANK(I12)),"You Must specify number of phases for AC!",IF(ISBLANK(K12),"Please fill in Connector Type",IF(ISBLANK(L12),"Please fill in Cable Type",IF(ISERROR(MATCH(H12,MD_CurrentTypes,0)),"Current must be filled from the drop-down menu",IF(AND(H12="AC",I12<>1,I12<>"1 & 3",I12<>"1 & 2 & 3",I12<>3),"<---- Phases must be filled from the drop-down menu",""))))))) | U12: =IF(_xlfn.CONCAT(G12:L12)="","",IF(ISERROR(MATCH(K12,MD_ConnectorTypes,0)),"Type must be filled from the drop-down menu",""))
B13: HFS-1 | C13: Has a detachable cable | D13: =IF(NOT(ISERROR(VLOOKUP("Detachable Cable",L:L,1,FALSE))),"Yes","No") -> No | F13: =IF(COUNTIF('OCPP family members'!$B$13:$B$41,'Hardware Feature set'!B13)>0, "Member", "") | L13: =IF(OR(LEFT(K13,1)= "s",LEFT(K13,1)="O"), "Detachable Cable",IF(LEFT(K13,1)="c", "Fixed Cable",IF(OR(LEFT(K13,1)="w",LEFT(K13,1)="P"),"Other",""))) | M13: =IF(P13<>"",P13,IF(Q13<>"",Q13,IF(R13<>"",R13,IF(S13<>"",S13,IF(T13<>"",T13,U13))))) | P13: =IF(_xlfn.CONCAT(G13:L13)="","",IF(AND(ISBLANK(G12),ISNUMBER(G13)),"Empty lines are not allowed in this table",IF(AND(NOT(ISNUMBER(G12)),G13<>1),"First EVSE must be EVSE1",IF(AND(ISNUMBER(G12),NOT(OR(G13=G12,G13-1=G12))),"Next EVSE must be same id or id + 1","")))) | Q13: =IF(K13<>"bBatterySlot","",IF(NOT(ISBLANK(H13)),"Battery Slot cannot have a Current Type",IF(NOT(ISBLANK(I13)),"Battery Slot cannot have Phases",IF(L13<>"","Battery Slot cannot have a Cable Type","")))) | R13: =IF(OR(K13="bBatterySlot",_xlfn.CONCAT(G13:L13)=""),"",IF(ISBLANK(H13),"Please specify Current Type",IF(AND(G12=G13,H12<>H13),"Current Type must be the same for all connectors of an EVSE",""))) | S13: =IF(_xlfn.CONCAT(G13:L13)="","",IF(AND(G13=G12,J13<>IF(ISNUMBER(J12),J12+1,1)),_xlfn.CONCAT("Connector id on same EVSE must be ",IF(ISNUMBER(J12),J12+1,1)),IF(AND(G13<>G12,J13<>1),"First Connector of an EVSE must be 1",""))) | T13: =IF(OR(K13="bBatterySlot",_xlfn.CONCAT(G13:L13)=""),"",IF(AND(H13="DC",NOT(ISBLANK(I13))),"You cannot specify number of phases for DC!",IF(AND(H13="AC",ISBLANK(I13)),"You Must specify number of phases for AC!",IF(ISBLANK(K13),"Please fill in Connector Type",IF(ISBLANK(L13),"Please fill in Cable Type",IF(ISERROR(MATCH(H13,MD_CurrentTypes,0)),"Current must be filled from the drop-down menu",IF(AND(H13="AC",I13<>1,I13<>"1 & 3",I13<>"1 & 2 & 3",I13<>3),"<---- Phases must be filled from the drop-down menu",""))))))) | U13: =IF(_xlfn.CONCAT(G13:L13)="","",IF(ISERROR(MATCH(K13,MD_ConnectorTypes,0)),"Type must be filled from the drop-down menu",""))
B14: HFS-2 | C14: Has a fixed cable | D14: =IF(NOT(ISERROR(VLOOKUP("Fixed Cable",L:L,1,FALSE))),"Yes","No") -> No | F14: =IF(COUNTIF('OCPP family members'!$B$13:$B$41,'Hardware Feature set'!B14)>0, "Member", "") | L14: =IF(OR(LEFT(K14,1)= "s",LEFT(K14,1)="O"), "Detachable Cable",IF(LEFT(K14,1)="c", "Fixed Cable",IF(OR(LEFT(K14,1)="w",LEFT(K14,1)="P"),"Other",""))) | M14: =IF(P14<>"",P14,IF(Q14<>"",Q14,IF(R14<>"",R14,IF(S14<>"",S14,IF(T14<>"",T14,U14))))) | P14: =IF(_xlfn.CONCAT(G14:L14)="","",IF(AND(ISBLANK(G13),ISNUMBER(G14)),"Empty lines are not allowed in this table",IF(AND(NOT(ISNUMBER(G13)),G14<>1),"First EVSE must be EVSE1",IF(AND(ISNUMBER(G13),NOT(OR(G14=G13,G14-1=G13))),"Next EVSE must be same id or id + 1","")))) | Q14: =IF(K14<>"bBatterySlot","",IF(NOT(ISBLANK(H14)),"Battery Slot cannot have a Current Type",IF(NOT(ISBLANK(I14)),"Battery Slot cannot have Phases",IF(L14<>"","Battery Slot cannot have a Cable Type","")))) | R14: =IF(OR(K14="bBatterySlot",_xlfn.CONCAT(G14:L14)=""),"",IF(ISBLANK(H14),"Please specify Current Type",IF(AND(G13=G14,H13<>H14),"Current Type must be the same for all connectors of an EVSE",""))) | S14: =IF(_xlfn.CONCAT(G14:L14)="","",IF(AND(G14=G13,J14<>IF(ISNUMBER(J13),J13+1,1)),_xlfn.CONCAT("Connector id on same EVSE must be ",IF(ISNUMBER(J13),J13+1,1)),IF(AND(G14<>G13,J14<>1),"First Connector of an EVSE must be 1",""))) | T14: =IF(OR(K14="bBatterySlot",_xlfn.CONCAT(G14:L14)=""),"",IF(AND(H14="DC",NOT(ISBLANK(I14))),"You cannot specify number of phases for DC!",IF(AND(H14="AC",ISBLANK(I14)),"You Must specify number of phases for AC!",IF(ISBLANK(K14),"Please fill in Connector Type",IF(ISBLANK(L14),"Please fill in Cable Type",IF(ISERROR(MATCH(H14,MD_CurrentTypes,0)),"Current must be filled from the drop-down menu",IF(AND(H14="AC",I14<>1,I14<>"1 & 3",I14<>"1 & 2 & 3",I14<>3),"<---- Phases must be filled from the drop-down menu",""))))))) | U14: =IF(_xlfn.CONCAT(G14:L14)="","",IF(ISERROR(MATCH(K14,MD_ConnectorTypes,0)),"Type must be filled from the drop-down menu",""))
B15: HFS-3 | C15: Has AC support | D15: =IF(NOT(AND(ISERROR(VLOOKUP("AC",H:H,1,FALSE)),ISERROR(VLOOKUP("AC & DC",H:H,1,FALSE)))),"Yes","No") -> No | F15: =IF(COUNTIF('OCPP family members'!$B$13:$B$41,'Hardware Feature set'!B15)>0, "Member", "") | L15: =IF(OR(LEFT(K15,1)= "s",LEFT(K15,1)="O"), "Detachable Cable",IF(LEFT(K15,1)="c", "Fixed Cable",IF(OR(LEFT(K15,1)="w",LEFT(K15,1)="P"),"Other",""))) | M15: =IF(P15<>"",P15,IF(Q15<>"",Q15,IF(R15<>"",R15,IF(S15<>"",S15,IF(T15<>"",T15,U15))))) | P15: =IF(_xlfn.CONCAT(G15:L15)="","",IF(AND(ISBLANK(G14),ISNUMBER(G15)),"Empty lines are not allowed in this table",IF(AND(NOT(ISNUMBER(G14)),G15<>1),"First EVSE must be EVSE1",IF(AND(ISNUMBER(G14),NOT(OR(G15=G14,G15-1=G14))),"Next EVSE must be same id or id + 1","")))) | Q15: =IF(K15<>"bBatterySlot","",IF(NOT(ISBLANK(H15)),"Battery Slot cannot have a Current Type",IF(NOT(ISBLANK(I15)),"Battery Slot cannot have Phases",IF(L15<>"","Battery Slot cannot have a Cable Type","")))) | R15: =IF(OR(K15="bBatterySlot",_xlfn.CONCAT(G15:L15)=""),"",IF(ISBLANK(H15),"Please specify Current Type",IF(AND(G14=G15,H14<>H15),"Current Type must be the same for all connectors of an EVSE",""))) | S15: =IF(_xlfn.CONCAT(G15:L15)="","",IF(AND(G15=G14,J15<>IF(ISNUMBER(J14),J14+1,1)),_xlfn.CONCAT("Connector id on same EVSE must be ",IF(ISNUMBER(J14),J14+1,1)),IF(AND(G15<>G14,J15<>1),"First Connector of an EVSE must be 1",""))) | T15: =IF(OR(K15="bBatterySlot",_xlfn.CONCAT(G15:L15)=""),"",IF(AND(H15="DC",NOT(ISBLANK(I15))),"You cannot specify number of phases for DC!",IF(AND(H15="AC",ISBLANK(I15)),"You Must specify number of phases for AC!",IF(ISBLANK(K15),"Please fill in Connector Type",IF(ISBLANK(L15),"Please fill in Cable Type",IF(ISERROR(MATCH(H15,MD_CurrentTypes,0)),"Current must be filled from the drop-down menu",IF(AND(H15="AC",I15<>1,I15<>"1 & 3",I15<>"1 & 2 & 3",I15<>3),"<---- Phases must be filled from the drop-down menu",""))))))) | U15: =IF(_xlfn.CONCAT(G15:L15)="","",IF(ISERROR(MATCH(K15,MD_ConnectorTypes,0)),"Type must be filled from the drop-down menu",""))
B16: HFS-4 | C16: Has DC support | D16: =IF(NOT(AND(ISERROR(VLOOKUP("DC",H:H,1,FALSE)),ISERROR(VLOOKUP("AC & DC",H:H,1,FALSE)))),"Yes","No") -> No | F16: =IF(COUNTIF('OCPP family members'!$B$13:$B$41,'Hardware Feature set'!B16)>0, "Member", "") | L16: =IF(OR(LEFT(K16,1)= "s",LEFT(K16,1)="O"), "Detachable Cable",IF(LEFT(K16,1)="c", "Fixed Cable",IF(OR(LEFT(K16,1)="w",LEFT(K16,1)="P"),"Other",""))) | M16: =IF(P16<>"",P16,IF(Q16<>"",Q16,IF(R16<>"",R16,IF(S16<>"",S16,IF(T16<>"",T16,U16))))) | P16: =IF(_xlfn.CONCAT(G16:L16)="","",IF(AND(ISBLANK(G15),ISNUMBER(G16)),"Empty lines are not allowed in this table",IF(AND(NOT(ISNUMBER(G15)),G16<>1),"First EVSE must be EVSE1",IF(AND(ISNUMBER(G15),NOT(OR(G16=G15,G16-1=G15))),"Next EVSE must be same id or id + 1","")))) | Q16: =IF(K16<>"bBatterySlot","",IF(NOT(ISBLANK(H16)),"Battery Slot cannot have a Current Type",IF(NOT(ISBLANK(I16)),"Battery Slot cannot have Phases",IF(L16<>"","Battery Slot cannot have a Cable Type","")))) | R16: =IF(OR(K16="bBatterySlot",_xlfn.CONCAT(G16:L16)=""),"",IF(ISBLANK(H16),"Please specify Current Type",IF(AND(G15=G16,H15<>H16),"Current Type must be the same for all connectors of an EVSE",""))) | S16: =IF(_xlfn.CONCAT(G16:L16)="","",IF(AND(G16=G15,J16<>IF(ISNUMBER(J15),J15+1,1)),_xlfn.CONCAT("Connector id on same EVSE must be ",IF(ISNUMBER(J15),J15+1,1)),IF(AND(G16<>G15,J16<>1),"First Connector of an EVSE must be 1",""))) | T16: =IF(OR(K16="bBatterySlot",_xlfn.CONCAT(G16:L16)=""),"",IF(AND(H16="DC",NOT(ISBLANK(I16))),"You cannot specify number of phases for DC!",IF(AND(H16="AC",ISBLANK(I16)),"You Must specify number of phases for AC!",IF(ISBLANK(K16),"Please fill in Connector Type",IF(ISBLANK(L16),"Please fill in Cable Type",IF(ISERROR(MATCH(H16,MD_CurrentTypes,0)),"Current must be filled from the drop-down menu",IF(AND(H16="AC",I16<>1,I16<>"1 & 3",I16<>"1 & 2 & 3",I16<>3),"<---- Phases must be filled from the drop-down menu",""))))))) | U16: =IF(_xlfn.CONCAT(G16:L16)="","",IF(ISERROR(MATCH(K16,MD_ConnectorTypes,0)),"Type must be filled from the drop-down menu",""))
B17: HFS-5 | C17: Has 1 phase support | D17: =IF(NOT(ISERROR(FIND("1",_xlfn.CONCAT(I:I)))),"Yes","No") -> No | F17: =IF(COUNTIF('OCPP family members'!$B$13:$B$41,'Hardware Feature set'!B17)>0, "Member", "") | L17: =IF(OR(LEFT(K17,1)= "s",LEFT(K17,1)="O"), "Detachable Cable",IF(LEFT(K17,1)="c", "Fixed Cable",IF(OR(LEFT(K17,1)="w",LEFT(K17,1)="P"),"Other",""))) | M17: =IF(P17<>"",P17,IF(Q17<>"",Q17,IF(R17<>"",R17,IF(S17<>"",S17,IF(T17<>"",T17,U17))))) | P17: =IF(_xlfn.CONCAT(G17:L17)="","",IF(AND(ISBLANK(G16),ISNUMBER(G17)),"Empty lines are not allowed in this table",IF(AND(NOT(ISNUMBER(G16)),G17<>1),"First EVSE must be EVSE1",IF(AND(ISNUMBER(G16),NOT(OR(G17=G16,G17-1=G16))),"Next EVSE must be same id or id + 1","")))) | Q17: =IF(K17<>"bBatterySlot","",IF(NOT(ISBLANK(H17)),"Battery Slot cannot have a Current Type",IF(NOT(ISBLANK(I17)),"Battery Slot cannot have Phases",IF(L17<>"","Battery Slot cannot have a Cable Type","")))) | R17: =IF(OR(K17="bBatterySlot",_xlfn.CONCAT(G17:L17)=""),"",IF(ISBLANK(H17),"Please specify Current Type",IF(AND(G16=G17,H16<>H17),"Current Type must be the same for all connectors of an EVSE",""))) | S17: =IF(_xlfn.CONCAT(G17:L17)="","",IF(AND(G17=G16,J17<>IF(ISNUMBER(J16),J16+1,1)),_xlfn.CONCAT("Connector id on same EVSE must be ",IF(ISNUMBER(J16),J16+1,1)),IF(AND(G17<>G16,J17<>1),"First Connector of an EVSE must be 1",""))) | T17: =IF(OR(K17="bBatterySlot",_xlfn.CONCAT(G17:L17)=""),"",IF(AND(H17="DC",NOT(ISBLANK(I17))),"You cannot specify number of phases for DC!",IF(AND(H17="AC",ISBLANK(I17)),"You Must specify number of phases for AC!",IF(ISBLANK(K17),"Please fill in Connector Type",IF(ISBLANK(L17),"Please fill in Cable Type",IF(ISERROR(MATCH(H17,MD_CurrentTypes,0)),"Current must be filled from the drop-down menu",IF(AND(H17="AC",I17<>1,I17<>"1 & 3",I17<>"1 & 2 & 3",I17<>3),"<---- Phases must be filled from the drop-down menu",""))))))) | U17: =IF(_xlfn.CONCAT(G17:L17)="","",IF(ISERROR(MATCH(K17,MD_ConnectorTypes,0)),"Type must be filled from the drop-down menu",""))
B18: HFS-6 | C18: Has 2 phase support | D18: =IF(NOT(ISERROR(FIND("2",_xlfn.CONCAT(I:I)))),"Yes","No") -> No | F18: =IF(COUNTIF('OCPP family members'!$B$13:$B$41,'Hardware Feature set'!B18)>0, "Member", "") | L18: =IF(OR(LEFT(K18,1)= "s",LEFT(K18,1)="O"), "Detachable Cable",IF(LEFT(K18,1)="c", "Fixed Cable",IF(OR(LEFT(K18,1)="w",LEFT(K18,1)="P"),"Other",""))) | M18: =IF(P18<>"",P18,IF(Q18<>"",Q18,IF(R18<>"",R18,IF(S18<>"",S18,IF(T18<>"",T18,U18))))) | P18: =IF(_xlfn.CONCAT(G18:L18)="","",IF(AND(ISBLANK(G17),ISNUMBER(G18)),"Empty lines are not allowed in this table",IF(AND(NOT(ISNUMBER(G17)),G18<>1),"First EVSE must be EVSE1",IF(AND(ISNUMBER(G17),NOT(OR(G18=G17,G18-1=G17))),"Next EVSE must be same id or id + 1","")))) | Q18: =IF(K18<>"bBatterySlot","",IF(NOT(ISBLANK(H18)),"Battery Slot cannot have a Current Type",IF(NOT(ISBLANK(I18)),"Battery Slot cannot have Phases",IF(L18<>"","Battery Slot cannot have a Cable Type","")))) | R18: =IF(OR(K18="bBatterySlot",_xlfn.CONCAT(G18:L18)=""),"",IF(ISBLANK(H18),"Please specify Current Type",IF(AND(G17=G18,H17<>H18),"Current Type must be the same for all connectors of an EVSE",""))) | S18: =IF(_xlfn.CONCAT(G18:L18)="","",IF(AND(G18=G17,J18<>IF(ISNUMBER(J17),J17+1,1)),_xlfn.CONCAT("Connector id on same EVSE must be ",IF(ISNUMBER(J17),J17+1,1)),IF(AND(G18<>G17,J18<>1),"First Connector of an EVSE must be 1",""))) | T18: =IF(OR(K18="bBatterySlot",_xlfn.CONCAT(G18:L18)=""),"",IF(AND(H18="DC",NOT(ISBLANK(I18))),"You cannot specify number of phases for DC!",IF(AND(H18="AC",ISBLANK(I18)),"You Must specify number of phases for AC!",IF(ISBLANK(K18),"Please fill in Connector Type",IF(ISBLANK(L18),"Please fill in Cable Type",IF(ISERROR(MATCH(H18,MD_CurrentTypes,0)),"Current must be filled from the drop-down menu",IF(AND(H18="AC",I18<>1,I18<>"1 & 3",I18<>"1 & 2 & 3",I18<>3),"<---- Phases must be filled from the drop-down menu",""))))))) | U18: =IF(_xlfn.CONCAT(G18:L18)="","",IF(ISERROR(MATCH(K18,MD_ConnectorTypes,0)),"Type must be filled from the drop-down menu",""))
B19: HFS-7 | C19: Has 3 phase support | D19: =IF(NOT(ISERROR(FIND("3",_xlfn.CONCAT(I:I)))),"Yes","No") -> No | F19: =IF(COUNTIF('OCPP family members'!$B$13:$B$41,'Hardware Feature set'!B19)>0, "Member", "") | L19: =IF(OR(LEFT(K19,1)= "s",LEFT(K19,1)="O"), "Detachable Cable",IF(LEFT(K19,1)="c", "Fixed Cable",IF(OR(LEFT(K19,1)="w",LEFT(K19,1)="P"),"Other",""))) | M19: =IF(P19<>"",P19,IF(Q19<>"",Q19,IF(R19<>"",R19,IF(S19<>"",S19,IF(T19<>"",T19,U19))))) | P19: =IF(_xlfn.CONCAT(G19:L19)="","",IF(AND(ISBLANK(G18),ISNUMBER(G19)),"Empty lines are not allowed in this table",IF(AND(NOT(ISNUMBER(G18)),G19<>1),"First EVSE must be EVSE1",IF(AND(ISNUMBER(G18),NOT(OR(G19=G18,G19-1=G18))),"Next EVSE must be same id or id + 1","")))) | Q19: =IF(K19<>"bBatterySlot","",IF(NOT(ISBLANK(H19)),"Battery Slot cannot have a Current Type",IF(NOT(ISBLANK(I19)),"Battery Slot cannot have Phases",IF(L19<>"","Battery Slot cannot have a Cable Type","")))) | R19: =IF(OR(K19="bBatterySlot",_xlfn.CONCAT(G19:L19)=""),"",IF(ISBLANK(H19),"Please specify Current Type",IF(AND(G18=G19,H18<>H19),"Current Type must be the same for all connectors of an EVSE",""))) | S19: =IF(_xlfn.CONCAT(G19:L19)="","",IF(AND(G19=G18,J19<>IF(ISNUMBER(J18),J18+1,1)),_xlfn.CONCAT("Connector id on same EVSE must be ",IF(ISNUMBER(J18),J18+1,1)),IF(AND(G19<>G18,J19<>1),"First Connector of an EVSE must be 1",""))) | T19: =IF(OR(K19="bBatterySlot",_xlfn.CONCAT(G19:L19)=""),"",IF(AND(H19="DC",NOT(ISBLANK(I19))),"You cannot specify number of phases for DC!",IF(AND(H19="AC",ISBLANK(I19)),"You Must specify number of phases for AC!",IF(ISBLANK(K19),"Please fill in Connector Type",IF(ISBLANK(L19),"Please fill in Cable Type",IF(ISERROR(MATCH(H19,MD_CurrentTypes,0)),"Current must be filled from the drop-down menu",IF(AND(H19="AC",I19<>1,I19<>"1 & 3",I19<>"1 & 2 & 3",I19<>3),"<---- Phases must be filled from the drop-down menu",""))))))) | U19: =IF(_xlfn.CONCAT(G19:L19)="","",IF(ISERROR(MATCH(K19,MD_ConnectorTypes,0)),"Type must be filled from the drop-down menu",""))
B20: HFS-8 | C20: No. EVSEs | D20: =MAX(G:G) -> 1 | F20: =IF(COUNTIF('OCPP family members'!$B$13:$B$41,'Hardware Feature set'!B20)>0, "Member", "") -> Member | L20: =IF(OR(LEFT(K20,1)= "s",LEFT(K20,1)="O"), "Detachable Cable",IF(LEFT(K20,1)="c", "Fixed Cable",IF(OR(LEFT(K20,1)="w",LEFT(K20,1)="P"),"Other",""))) | M20: =IF(P20<>"",P20,IF(Q20<>"",Q20,IF(R20<>"",R20,IF(S20<>"",S20,IF(T20<>"",T20,U20))))) | P20: =IF(_xlfn.CONCAT(G20:L20)="","",IF(AND(ISBLANK(G19),ISNUMBER(G20)),"Empty lines are not allowed in this table",IF(AND(NOT(ISNUMBER(G19)),G20<>1),"First EVSE must be EVSE1",IF(AND(ISNUMBER(G19),NOT(OR(G20=G19,G20-1=G19))),"Next EVSE must be same id or id + 1","")))) | Q20: =IF(K20<>"bBatterySlot","",IF(NOT(ISBLANK(H20)),"Battery Slot cannot have a Current Type",IF(NOT(ISBLANK(I20)),"Battery Slot cannot have Phases",IF(L20<>"","Battery Slot cannot have a Cable Type","")))) | R20: =IF(OR(K20="bBatterySlot",_xlfn.CONCAT(G20:L20)=""),"",IF(ISBLANK(H20),"Please specify Current Type",IF(AND(G19=G20,H19<>H20),"Current Type must be the same for all connectors of an EVSE",""))) | S20: =IF(_xlfn.CONCAT(G20:L20)="","",IF(AND(G20=G19,J20<>IF(ISNUMBER(J19),J19+1,1)),_xlfn.CONCAT("Connector id on same EVSE must be ",IF(ISNUMBER(J19),J19+1,1)),IF(AND(G20<>G19,J20<>1),"First Connector of an EVSE must be 1",""))) | T20: =IF(OR(K20="bBatterySlot",_xlfn.CONCAT(G20:L20)=""),"",IF(AND(H20="DC",NOT(ISBLANK(I20))),"You cannot specify number of phases for DC!",IF(AND(H20="AC",ISBLANK(I20)),"You Must specify number of phases for AC!",IF(ISBLANK(K20),"Please fill in Connector Type",IF(ISBLANK(L20),"Please fill in Cable Type",IF(ISERROR(MATCH(H20,MD_CurrentTypes,0)),"Current must be filled from the drop-down menu",IF(AND(H20="AC",I20<>1,I20<>"1 & 3",I20<>"1 & 2 & 3",I20<>3),"<---- Phases must be filled from the drop-down menu",""))))))) | U20: =IF(_xlfn.CONCAT(G20:L20)="","",IF(ISERROR(MATCH(K20,MD_ConnectorTypes,0)),"Type must be filled from the drop-down menu",""))
B21: HFS-9 | C21: Communication technology | D21: <specify supported communication technology/ies> | E21: =IF(AND(NOT(ISBLANK(B21)),ISBLANK(D21)),"<---- This field cannot be left empty!",IF(NOT(ISERROR(FIND("<",D21))),"<---- Please enter a valid value or list","")) -> <---- Please enter a valid value or list | F21: =IF(COUNTIF('OCPP family members'!$B$13:$B$41,'Hardware Feature set'!B21)>0, "Member", "") -> Member | L21: =IF(OR(LEFT(K21,1)= "s",LEFT(K21,1)="O"), "Detachable Cable",IF(LEFT(K21,1)="c", "Fixed Cable",IF(OR(LEFT(K21,1)="w",LEFT(K21,1)="P"),"Other",""))) | M21: =IF(P21<>"",P21,IF(Q21<>"",Q21,IF(R21<>"",R21,IF(S21<>"",S21,IF(T21<>"",T21,U21))))) | P21: =IF(_xlfn.CONCAT(G21:L21)="","",IF(AND(ISBLANK(G20),ISNUMBER(G21)),"Empty lines are not allowed in this table",IF(AND(NOT(ISNUMBER(G20)),G21<>1),"First EVSE must be EVSE1",IF(AND(ISNUMBER(G20),NOT(OR(G21=G20,G21-1=G20))),"Next EVSE must be same id or id + 1","")))) | Q21: =IF(K21<>"bBatterySlot","",IF(NOT(ISBLANK(H21)),"Battery Slot cannot have a Current Type",IF(NOT(ISBLANK(I21)),"Battery Slot cannot have Phases",IF(L21<>"","Battery Slot cannot have a Cable Type","")))) | R21: =IF(OR(K21="bBatterySlot",_xlfn.CONCAT(G21:L21)=""),"",IF(ISBLANK(H21),"Please specify Current Type",IF(AND(G20=G21,H20<>H21),"Current Type must be the same for all connectors of an EVSE",""))) | S21: =IF(_xlfn.CONCAT(G21:L21)="","",IF(AND(G21=G20,J21<>IF(ISNUMBER(J20),J20+1,1)),_xlfn.CONCAT("Connector id on same EVSE must be ",IF(ISNUMBER(J20),J20+1,1)),IF(AND(G21<>G20,J21<>1),"First Connector of an EVSE must be 1",""))) | T21: =IF(OR(K21="bBatterySlot",_xlfn.CONCAT(G21:L21)=""),"",IF(AND(H21="DC",NOT(ISBLANK(I21))),"You cannot specify number of phases for DC!",IF(AND(H21="AC",ISBLANK(I21)),"You Must specify number of phases for AC!",IF(ISBLANK(K21),"Please fill in Connector Type",IF(ISBLANK(L21),"Please fill in Cable Type",IF(ISERROR(MATCH(H21,MD_CurrentTypes,0)),"Current must be filled from the drop-down menu",IF(AND(H21="AC",I21<>1,I21<>"1 & 3",I21<>"1 & 2 & 3",I21<>3),"<---- Phases must be filled from the drop-down menu",""))))))) | U21: =IF(_xlfn.CONCAT(G21:L21)="","",IF(ISERROR(MATCH(K21,MD_ConnectorTypes,0)),"Type must be filled from the drop-down menu",""))
B22: HFS-10 | C22: RFID readers | D22: <select RFID Reader configuration> | E22: =IF(AND(NOT(ISBLANK(B22)),ISBLANK(D22)),"<---- This field cannot be left empty!",IF(NOT(ISERROR(FIND("<",D22))),"<---- Please enter a valid value",IF(ISERROR(MATCH(D22, MD_RFIDOptions, 0)), "<---- This field must be filled from the drop-down menu", ""))) -> <---- Please enter a valid value | F22: =IF(COUNTIF('OCPP family members'!$B$13:$B$41,'Hardware Feature set'!B22)>0, "Member", "") -> Member | L22: =IF(OR(LEFT(K22,1)= "s",LEFT(K22,1)="O"), "Detachable Cable",IF(LEFT(K22,1)="c", "Fixed Cable",IF(OR(LEFT(K22,1)="w",LEFT(K22,1)="P"),"Other",""))) | M22: =IF(P22<>"",P22,IF(Q22<>"",Q22,IF(R22<>"",R22,IF(S22<>"",S22,IF(T22<>"",T22,U22))))) | P22: =IF(_xlfn.CONCAT(G22:L22)="","",IF(AND(ISBLANK(G21),ISNUMBER(G22)),"Empty lines are not allowed in this table",IF(AND(NOT(ISNUMBER(G21)),G22<>1),"First EVSE must be EVSE1",IF(AND(ISNUMBER(G21),NOT(OR(G22=G21,G22-1=G21))),"Next EVSE must be same id or id + 1","")))) | Q22: =IF(K22<>"bBatterySlot","",IF(NOT(ISBLANK(H22)),"Battery Slot cannot have a Current Type",IF(NOT(ISBLANK(I22)),"Battery Slot cannot have Phases",IF(L22<>"","Battery Slot cannot have a Cable Type","")))) | R22: =IF(OR(K22="bBatterySlot",_xlfn.CONCAT(G22:L22)=""),"",IF(ISBLANK(H22),"Please specify Current Type",IF(AND(G21=G22,H21<>H22),"Current Type must be the same for all connectors of an EVSE",""))) | S22: =IF(_xlfn.CONCAT(G22:L22)="","",IF(AND(G22=G21,J22<>IF(ISNUMBER(J21),J21+1,1)),_xlfn.CONCAT("Connector id on same EVSE must be ",IF(ISNUMBER(J21),J21+1,1)),IF(AND(G22<>G21,J22<>1),"First Connector of an EVSE must be 1",""))) | T22: =IF(OR(K22="bBatterySlot",_xlfn.CONCAT(G22:L22)=""),"",IF(AND(H22="DC",NOT(ISBLANK(I22))),"You cannot specify number of phases for DC!",IF(AND(H22="AC",ISBLANK(I22)),"You Must specify number of phases for AC!",IF(ISBLANK(K22),"Please fill in Connector Type",IF(ISBLANK(L22),"Please fill in Cable Type",IF(ISERROR(MATCH(H22,MD_CurrentTypes,0)),"Current must be filled from the drop-down menu",IF(AND(H22="AC",I22<>1,I22<>"1 & 3",I22<>"1 & 2 & 3",I22<>3),"<---- Phases must be filled from the drop-down menu",""))))))) | U22: =IF(_xlfn.CONCAT(G22:L22)="","",IF(ISERROR(MATCH(K22,MD_ConnectorTypes,0)),"Type must be filled from the drop-down menu",""))
B23: HFS-11 | C23: DC power level (kW) | D23: <specify DC power level> | E23: =IF(VLOOKUP("HFS-4",B12:D25,3,TRUE)="No",IF(NOT(ISBLANK(D23)),"<---- This field must be left empty for non-DC chargers",""),IF(AND(NOT(ISBLANK(B23)),ISBLANK(D23)),"<---- This field cannot be left empty!",IF(NOT(ISERROR(FIND("<",D23))),"<---- Please enter a valid value",""))) -> <---- This field must be left empty for non-DC chargers | F23: =IF(COUNTIF('OCPP family members'!$B$13:$B$41,'Hardware Feature set'!B23)>0, "Member", "") -> Member | L23: =IF(OR(LEFT(K23,1)= "s",LEFT(K23,1)="O"), "Detachable Cable",IF(LEFT(K23,1)="c", "Fixed Cable",IF(OR(LEFT(K23,1)="w",LEFT(K23,1)="P"),"Other",""))) | M23: =IF(P23<>"",P23,IF(Q23<>"",Q23,IF(R23<>"",R23,IF(S23<>"",S23,IF(T23<>"",T23,U23))))) | P23: =IF(_xlfn.CONCAT(G23:L23)="","",IF(AND(ISBLANK(G22),ISNUMBER(G23)),"Empty lines are not allowed in this table",IF(AND(NOT(ISNUMBER(G22)),G23<>1),"First EVSE must be EVSE1",IF(AND(ISNUMBER(G22),NOT(OR(G23=G22,G23-1=G22))),"Next EVSE must be same id or id + 1","")))) | Q23: =IF(K23<>"bBatterySlot","",IF(NOT(ISBLANK(H23)),"Battery Slot cannot have a Current Type",IF(NOT(ISBLANK(I23)),"Battery Slot cannot have Phases",IF(L23<>"","Battery Slot cannot have a Cable Type","")))) | R23: =IF(OR(K23="bBatterySlot",_xlfn.CONCAT(G23:L23)=""),"",IF(ISBLANK(H23),"Please specify Current Type",IF(AND(G22=G23,H22<>H23),"Current Type must be the same for all connectors of an EVSE",""))) | S23: =IF(_xlfn.CONCAT(G23:L23)="","",IF(AND(G23=G22,J23<>IF(ISNUMBER(J22),J22+1,1)),_xlfn.CONCAT("Connector id on same EVSE must be ",IF(ISNUMBER(J22),J22+1,1)),IF(AND(G23<>G22,J23<>1),"First Connector of an EVSE must be 1",""))) | T23: =IF(OR(K23="bBatterySlot",_xlfn.CONCAT(G23:L23)=""),"",IF(AND(H23="DC",NOT(ISBLANK(I23))),"You cannot specify number of phases for DC!",IF(AND(H23="AC",ISBLANK(I23)),"You Must specify number of phases for AC!",IF(ISBLANK(K23),"Please fill in Connector Type",IF(ISBLANK(L23),"Please fill in Cable Type",IF(ISERROR(MATCH(H23,MD_CurrentTypes,0)),"Current must be filled from the drop-down menu",IF(AND(H23="AC",I23<>1,I23<>"1 & 3",I23<>"1 & 2 & 3",I23<>3),"<---- Phases must be filled from the drop-down menu",""))))))) | U23: =IF(_xlfn.CONCAT(G23:L23)="","",IF(ISERROR(MATCH(K23,MD_ConnectorTypes,0)),"Type must be filled from the drop-down menu",""))
B24: HFS-12 | C24: Number of displays | D24: <specify the number of displays on your product> | E24: =IF(AND(NOT(ISBLANK(B24)),ISBLANK(D24)),"<---- This field cannot be left empty!",IF(NOT(ISERROR(FIND("<",D24))),"<---- Please enter a valid value","")) -> <---- Please enter a valid value | F24: =IF(COUNTIF('OCPP family members'!$B$13:$B$41,'Hardware Feature set'!B24)>0, "Member", "") -> Member | L24: =IF(OR(LEFT(K24,1)= "s",LEFT(K24,1)="O"), "Detachable Cable",IF(LEFT(K24,1)="c", "Fixed Cable",IF(OR(LEFT(K24,1)="w",LEFT(K24,1)="P"),"Other",""))) | M24: =IF(P24<>"",P24,IF(Q24<>"",Q24,IF(R24<>"",R24,IF(S24<>"",S24,IF(T24<>"",T24,U24))))) | P24: =IF(_xlfn.CONCAT(G24:L24)="","",IF(AND(ISBLANK(G23),ISNUMBER(G24)),"Empty lines are not allowed in this table",IF(AND(NOT(ISNUMBER(G23)),G24<>1),"First EVSE must be EVSE1",IF(AND(ISNUMBER(G23),NOT(OR(G24=G23,G24-1=G23))),"Next EVSE must be same id or id + 1","")))) | Q24: =IF(K24<>"bBatterySlot","",IF(NOT(ISBLANK(H24)),"Battery Slot cannot have a Current Type",IF(NOT(ISBLANK(I24)),"Battery Slot cannot have Phases",IF(L24<>"","Battery Slot cannot have a Cable Type","")))) | R24: =IF(OR(K24="bBatterySlot",_xlfn.CONCAT(G24:L24)=""),"",IF(ISBLANK(H24),"Please specify Current Type",IF(AND(G23=G24,H23<>H24),"Current Type must be the same for all connectors of an EVSE",""))) | S24: =IF(_xlfn.CONCAT(G24:L24)="","",IF(AND(G24=G23,J24<>IF(ISNUMBER(J23),J23+1,1)),_xlfn.CONCAT("Connector id on same EVSE must be ",IF(ISNUMBER(J23),J23+1,1)),IF(AND(G24<>G23,J24<>1),"First Connector of an EVSE must be 1",""))) | T24: =IF(OR(K24="bBatterySlot",_xlfn.CONCAT(G24:L24)=""),"",IF(AND(H24="DC",NOT(ISBLANK(I24))),"You cannot specify number of phases for DC!",IF(AND(H24="AC",ISBLANK(I24)),"You Must specify number of phases for AC!",IF(ISBLANK(K24),"Please fill in Connector Type",IF(ISBLANK(L24),"Please fill in Cable Type",IF(ISERROR(MATCH(H24,MD_CurrentTypes,0)),"Current must be filled from the drop-down menu",IF(AND(H24="AC",I24<>1,I24<>"1 & 3",I24<>"1 & 2 & 3",I24<>3),"<---- Phases must be filled from the drop-down menu",""))))))) | U24: =IF(_xlfn.CONCAT(G24:L24)="","",IF(ISERROR(MATCH(K24,MD_ConnectorTypes,0)),"Type must be filled from the drop-down menu",""))
B25: HFS-13 | C25: Battery Swapping Support | D25: =IF(NOT(ISERROR(FIND(MD!Q34,_xlfn.CONCAT(K:K)))),"Yes","No") -> No | E25: =IF(AND(D6="Battery Swapping Charging Station", D25<>"Yes"),"<---- HFS-13 must be 'Yes' when Product Subtype is 'Battery Swapping Charging Station'","") | F25: =IF(COUNTIF('OCPP family members'!$B$13:$B$41,'Hardware Feature set'!B25)>0, "Member", "") | L25: =IF(OR(LEFT(K25,1)= "s",LEFT(K25,1)="O"), "Detachable Cable",IF(LEFT(K25,1)="c", "Fixed Cable",IF(OR(LEFT(K25,1)="w",LEFT(K25,1)="P"),"Other",""))) | M25: =IF(P25<>"",P25,IF(Q25<>"",Q25,IF(R25<>"",R25,IF(S25<>"",S25,IF(T25<>"",T25,U25))))) | P25: =IF(_xlfn.CONCAT(G25:L25)="","",IF(AND(ISBLANK(G24),ISNUMBER(G25)),"Empty lines are not allowed in this table",IF(AND(NOT(ISNUMBER(G24)),G25<>1),"First EVSE must be EVSE1",IF(AND(ISNUMBER(G24),NOT(OR(G25=G24,G25-1=G24))),"Next EVSE must be same id or id + 1","")))) | Q25: =IF(K25<>"bBatterySlot","",IF(NOT(ISBLANK(H25)),"Battery Slot cannot have a Current Type",IF(NOT(ISBLANK(I25)),"Battery Slot cannot have Phases",IF(L25<>"","Battery Slot cannot have a Cable Type","")))) | R25: =IF(OR(K25="bBatterySlot",_xlfn.CONCAT(G25:L25)=""),"",IF(ISBLANK(H25),"Please specify Current Type",IF(AND(G24=G25,H24<>H25),"Current Type must be the same for all connectors of an EVSE",""))) | S25: =IF(_xlfn.CONCAT(G25:L25)="","",IF(AND(G25=G24,J25<>IF(ISNUMBER(J24),J24+1,1)),_xlfn.CONCAT("Connector id on same EVSE must be ",IF(ISNUMBER(J24),J24+1,1)),IF(AND(G25<>G24,J25<>1),"First Connector of an EVSE must be 1",""))) | T25: =IF(OR(K25="bBatterySlot",_xlfn.CONCAT(G25:L25)=""),"",IF(AND(H25="DC",NOT(ISBLANK(I25))),"You cannot specify number of phases for DC!",IF(AND(H25="AC",ISBLANK(I25)),"You Must specify number of phases for AC!",IF(ISBLANK(K25),"Please fill in Connector Type",IF(ISBLANK(L25),"Please fill in Cable Type",IF(ISERROR(MATCH(H25,MD_CurrentTypes,0)),"Current must be filled from the drop-down menu",IF(AND(H25="AC",I25<>1,I25<>"1 & 3",I25<>"1 & 2 & 3",I25<>3),"<---- Phases must be filled from the drop-down menu",""))))))) | U25: =IF(_xlfn.CONCAT(G25:L25)="","",IF(ISERROR(MATCH(K25,MD_ConnectorTypes,0)),"Type must be filled from the drop-down menu",""))
L26: =IF(OR(LEFT(K26,1)= "s",LEFT(K26,1)="O"), "Detachable Cable",IF(LEFT(K26,1)="c", "Fixed Cable",IF(OR(LEFT(K26,1)="w",LEFT(K26,1)="P"),"Other",""))) | M26: =IF(P26<>"",P26,IF(Q26<>"",Q26,IF(R26<>"",R26,IF(S26<>"",S26,IF(T26<>"",T26,U26))))) | P26: =IF(_xlfn.CONCAT(G26:L26)="","",IF(AND(ISBLANK(G25),ISNUMBER(G26)),"Empty lines are not allowed in this table",IF(AND(NOT(ISNUMBER(G25)),G26<>1),"First EVSE must be EVSE1",IF(AND(ISNUMBER(G25),NOT(OR(G26=G25,G26-1=G25))),"Next EVSE must be same id or id + 1","")))) | Q26: =IF(K26<>"bBatterySlot","",IF(NOT(ISBLANK(H26)),"Battery Slot cannot have a Current Type",IF(NOT(ISBLANK(I26)),"Battery Slot cannot have Phases",IF(L26<>"","Battery Slot cannot have a Cable Type","")))) | R26: =IF(OR(K26="bBatterySlot",_xlfn.CONCAT(G26:L26)=""),"",IF(ISBLANK(H26),"Please specify Current Type",IF(AND(G25=G26,H25<>H26),"Current Type must be the same for all connectors of an EVSE",""))) | S26: =IF(_xlfn.CONCAT(G26:L26)="","",IF(AND(G26=G25,J26<>IF(ISNUMBER(J25),J25+1,1)),_xlfn.CONCAT("Connector id on same EVSE must be ",IF(ISNUMBER(J25),J25+1,1)),IF(AND(G26<>G25,J26<>1),"First Connector of an EVSE must be 1",""))) | T26: =IF(OR(K26="bBatterySlot",_xlfn.CONCAT(G26:L26)=""),"",IF(AND(H26="DC",NOT(ISBLANK(I26))),"You cannot specify number of phases for DC!",IF(AND(H26="AC",ISBLANK(I26)),"You Must specify number of phases for AC!",IF(ISBLANK(K26),"Please fill in Connector Type",IF(ISBLANK(L26),"Please fill in Cable Type",IF(ISERROR(MATCH(H26,MD_CurrentTypes,0)),"Current must be filled from the drop-down menu",IF(AND(H26="AC",I26<>1,I26<>"1 & 3",I26<>"1 & 2 & 3",I26<>3),"<---- Phases must be filled from the drop-down menu",""))))))) | U26: =IF(_xlfn.CONCAT(G26:L26)="","",IF(ISERROR(MATCH(K26,MD_ConnectorTypes,0)),"Type must be filled from the drop-down menu",""))
L27: =IF(OR(LEFT(K27,1)= "s",LEFT(K27,1)="O"), "Detachable Cable",IF(LEFT(K27,1)="c", "Fixed Cable",IF(OR(LEFT(K27,1)="w",LEFT(K27,1)="P"),"Other",""))) | M27: =IF(P27<>"",P27,IF(Q27<>"",Q27,IF(R27<>"",R27,IF(S27<>"",S27,IF(T27<>"",T27,U27))))) | P27: =IF(_xlfn.CONCAT(G27:L27)="","",IF(AND(ISBLANK(G26),ISNUMBER(G27)),"Empty lines are not allowed in this table",IF(AND(NOT(ISNUMBER(G26)),G27<>1),"First EVSE must be EVSE1",IF(AND(ISNUMBER(G26),NOT(OR(G27=G26,G27-1=G26))),"Next EVSE must be same id or id + 1","")))) | Q27: =IF(K27<>"bBatterySlot","",IF(NOT(ISBLANK(H27)),"Battery Slot cannot have a Current Type",IF(NOT(ISBLANK(I27)),"Battery Slot cannot have Phases",IF(L27<>"","Battery Slot cannot have a Cable Type","")))) | R27: =IF(OR(K27="bBatterySlot",_xlfn.CONCAT(G27:L27)=""),"",IF(ISBLANK(H27),"Please specify Current Type",IF(AND(G26=G27,H26<>H27),"Current Type must be the same for all connectors of an EVSE",""))) | S27: =IF(_xlfn.CONCAT(G27:L27)="","",IF(AND(G27=G26,J27<>IF(ISNUMBER(J26),J26+1,1)),_xlfn.CONCAT("Connector id on same EVSE must be ",IF(ISNUMBER(J26),J26+1,1)),IF(AND(G27<>G26,J27<>1),"First Connector of an EVSE must be 1",""))) | T27: =IF(OR(K27="bBatterySlot",_xlfn.CONCAT(G27:L27)=""),"",IF(AND(H27="DC",NOT(ISBLANK(I27))),"You cannot specify number of phases for DC!",IF(AND(H27="AC",ISBLANK(I27)),"You Must specify number of phases for AC!",IF(ISBLANK(K27),"Please fill in Connector Type",IF(ISBLANK(L27),"Please fill in Cable Type",IF(ISERROR(MATCH(H27,MD_CurrentTypes,0)),"Current must be filled from the drop-down menu",IF(AND(H27="AC",I27<>1,I27<>"1 & 3",I27<>"1 & 2 & 3",I27<>3),"<---- Phases must be filled from the drop-down menu",""))))))) | U27: =IF(_xlfn.CONCAT(G27:L27)="","",IF(ISERROR(MATCH(K27,MD_ConnectorTypes,0)),"Type must be filled from the drop-down menu",""))
L28: =IF(OR(LEFT(K28,1)= "s",LEFT(K28,1)="O"), "Detachable Cable",IF(LEFT(K28,1)="c", "Fixed Cable",IF(OR(LEFT(K28,1)="w",LEFT(K28,1)="P"),"Other",""))) | M28: =IF(P28<>"",P28,IF(Q28<>"",Q28,IF(R28<>"",R28,IF(S28<>"",S28,IF(T28<>"",T28,U28))))) | P28: =IF(_xlfn.CONCAT(G28:L28)="","",IF(AND(ISBLANK(G27),ISNUMBER(G28)),"Empty lines are not allowed in this table",IF(AND(NOT(ISNUMBER(G27)),G28<>1),"First EVSE must be EVSE1",IF(AND(ISNUMBER(G27),NOT(OR(G28=G27,G28-1=G27))),"Next EVSE must be same id or id + 1","")))) | Q28: =IF(K28<>"bBatterySlot","",IF(NOT(ISBLANK(H28)),"Battery Slot cannot have a Current Type",IF(NOT(ISBLANK(I28)),"Battery Slot cannot have Phases",IF(L28<>"","Battery Slot cannot have a Cable Type","")))) | R28: =IF(OR(K28="bBatterySlot",_xlfn.CONCAT(G28:L28)=""),"",IF(ISBLANK(H28),"Please specify Current Type",IF(AND(G27=G28,H27<>H28),"Current Type must be the same for all connectors of an EVSE",""))) | S28: =IF(_xlfn.CONCAT(G28:L28)="","",IF(AND(G28=G27,J28<>IF(ISNUMBER(J27),J27+1,1)),_xlfn.CONCAT("Connector id on same EVSE must be ",IF(ISNUMBER(J27),J27+1,1)),IF(AND(G28<>G27,J28<>1),"First Connector of an EVSE must be 1",""))) | T28: =IF(OR(K28="bBatterySlot",_xlfn.CONCAT(G28:L28)=""),"",IF(AND(H28="DC",NOT(ISBLANK(I28))),"You cannot specify number of phases for DC!",IF(AND(H28="AC",ISBLANK(I28)),"You Must specify number of phases for AC!",IF(ISBLANK(K28),"Please fill in Connector Type",IF(ISBLANK(L28),"Please fill in Cable Type",IF(ISERROR(MATCH(H28,MD_CurrentTypes,0)),"Current must be filled from the drop-down menu",IF(AND(H28="AC",I28<>1,I28<>"1 & 3",I28<>"1 & 2 & 3",I28<>3),"<---- Phases must be filled from the drop-down menu",""))))))) | U28: =IF(_xlfn.CONCAT(G28:L28)="","",IF(ISERROR(MATCH(K28,MD_ConnectorTypes,0)),"Type must be filled from the drop-down menu",""))
L29: =IF(OR(LEFT(K29,1)= "s",LEFT(K29,1)="O"), "Detachable Cable",IF(LEFT(K29,1)="c", "Fixed Cable",IF(OR(LEFT(K29,1)="w",LEFT(K29,1)="P"),"Other",""))) | M29: =IF(P29<>"",P29,IF(Q29<>"",Q29,IF(R29<>"",R29,IF(S29<>"",S29,IF(T29<>"",T29,U29))))) | P29: =IF(_xlfn.CONCAT(G29:L29)="","",IF(AND(ISBLANK(G28),ISNUMBER(G29)),"Empty lines are not allowed in this table",IF(AND(NOT(ISNUMBER(G28)),G29<>1),"First EVSE must be EVSE1",IF(AND(ISNUMBER(G28),NOT(OR(G29=G28,G29-1=G28))),"Next EVSE must be same id or id + 1","")))) | Q29: =IF(K29<>"bBatterySlot","",IF(NOT(ISBLANK(H29)),"Battery Slot cannot have a Current Type",IF(NOT(ISBLANK(I29)),"Battery Slot cannot have Phases",IF(L29<>"","Battery Slot cannot have a Cable Type","")))) | R29: =IF(OR(K29="bBatterySlot",_xlfn.CONCAT(G29:L29)=""),"",IF(ISBLANK(H29),"Please specify Current Type",IF(AND(G28=G29,H28<>H29),"Current Type must be the same for all connectors of an EVSE",""))) | S29: =IF(_xlfn.CONCAT(G29:L29)="","",IF(AND(G29=G28,J29<>IF(ISNUMBER(J28),J28+1,1)),_xlfn.CONCAT("Connector id on same EVSE must be ",IF(ISNUMBER(J28),J28+1,1)),IF(AND(G29<>G28,J29<>1),"First Connector of an EVSE must be 1",""))) | T29: =IF(OR(K29="bBatterySlot",_xlfn.CONCAT(G29:L29)=""),"",IF(AND(H29="DC",NOT(ISBLANK(I29))),"You cannot specify number of phases for DC!",IF(AND(H29="AC",ISBLANK(I29)),"You Must specify number of phases for AC!",IF(ISBLANK(K29),"Please fill in Connector Type",IF(ISBLANK(L29),"Please fill in Cable Type",IF(ISERROR(MATCH(H29,MD_CurrentTypes,0)),"Current must be filled from the drop-down menu",IF(AND(H29="AC",I29<>1,I29<>"1 & 3",I29<>"1 & 2 & 3",I29<>3),"<---- Phases must be filled from the drop-down menu",""))))))) | U29: =IF(_xlfn.CONCAT(G29:L29)="","",IF(ISERROR(MATCH(K29,MD_ConnectorTypes,0)),"Type must be filled from the drop-down menu",""))
